BEGIN:VCALENDAR
VERSION:2.0
PRODID:-//The RESOURCE by Molly - ECPv6.15.20//NONSGML v1.0//EN
CALSCALE:GREGORIAN
METHOD:PUBLISH
X-WR-CALNAME:The RESOURCE by Molly
X-ORIGINAL-URL:https://holidayproductsresource.com
X-WR-CALDESC:Events for The RESOURCE by Molly
REFRESH-INTERVAL;VALUE=DURATION:PT1H
X-Robots-Tag:noindex
X-PUBLISHED-TTL:PT1H
BEGIN:VTIMEZONE
TZID:America/Los_Angeles
BEGIN:DAYLIGHT
TZOFFSETFROM:-0800
TZOFFSETTO:-0700
TZNAME:PDT
DTSTART:20240310T100000
END:DAYLIGHT
BEGIN:STANDARD
TZOFFSETFROM:-0700
TZOFFSETTO:-0800
TZNAME:PST
DTSTART:20241103T090000
END:STANDARD
BEGIN:DAYLIGHT
TZOFFSETFROM:-0800
TZOFFSETTO:-0700
TZNAME:PDT
DTSTART:20250309T100000
END:DAYLIGHT
BEGIN:STANDARD
TZOFFSETFROM:-0700
TZOFFSETTO:-0800
TZNAME:PST
DTSTART:20251102T090000
END:STANDARD
BEGIN:DAYLIGHT
TZOFFSETFROM:-0800
TZOFFSETTO:-0700
TZNAME:PDT
DTSTART:20260308T100000
END:DAYLIGHT
BEGIN:STANDARD
TZOFFSETFROM:-0700
TZOFFSETTO:-0800
TZNAME:PST
DTSTART:20261101T090000
END:STANDARD
END:VTIMEZONE
BEGIN:VEVENT
DTSTART;TZID=America/Los_Angeles:20250401T080000
DTEND;TZID=America/Los_Angeles:20250531T235900
DTSTAMP:20260421T051719
CREATED:20250325T120046Z
LAST-MODIFIED:20250325T094016Z
UID:30586-1743494400-1748735940@holidayproductsresource.com
SUMMARY:pjur’s 30 Year Anniversary Contest
DESCRIPTION:Join Holiday Products + Sugar Splash on Zoom to learn about their latest & greatest items\, presented by Boaz La Bleu! This product training aims to help you learn all about some great potential new items for you to add to your assortment as well as tips and tricks for showing them off in your … Continue reading Sugar Splash + Holiday Products presents Wednesdays at One
URL:https://holidayproductsresource.com/event/pjurs-30-year-anniversary-contest/
LOCATION:Your Store
CATEGORIES:Contest
ATTACH;FMTTYPE=image/jpeg:https://holidayproductsresource.com/wp-content/uploads/2025/03/pjur-30-yr.jpg
END:VEVENT
BEGIN:VEVENT
DTSTART;TZID=America/Los_Angeles:20250404T080000
DTEND;TZID=America/Los_Angeles:20251201T170000
DTSTAMP:20260421T051719
CREATED:20250418T221033Z
LAST-MODIFIED:20251113T195325Z
UID:30749-1743753600-1764608400@holidayproductsresource.com
SUMMARY:Tariff / Surcharge Tracker
DESCRIPTION:Join Holiday Products + Sugar Splash on Zoom to learn about their latest & greatest items\, presented by Boaz La Bleu! This product training aims to help you learn all about some great potential new items for you to add to your assortment as well as tips and tricks for showing them off in your … Continue reading Sugar Splash + Holiday Products presents Wednesdays at One
URL:https://holidayproductsresource.com/event/tariff-surcharge-tracker/
LOCATION:Your Store
CATEGORIES:Price Increase Alert
ATTACH;FMTTYPE=image/png:https://holidayproductsresource.com/wp-content/uploads/2025/04/Tariff-Tracker-cover-2.png
ORGANIZER;CN="Holiday Products":MAILTO:sales@holidayproducts.com
END:VEVENT
BEGIN:VEVENT
DTSTART;VALUE=DATE:20250501
DTEND;VALUE=DATE:20250502
DTSTAMP:20260421T051719
CREATED:20250401T225611Z
LAST-MODIFIED:20250430T223710Z
UID:30628-1746057600-1746143999@holidayproductsresource.com
SUMMARY:May 1\, 2025 Manufacturer Price Increase Notice
DESCRIPTION:Join Holiday Products + Sugar Splash on Zoom to learn about their latest & greatest items\, presented by Boaz La Bleu! This product training aims to help you learn all about some great potential new items for you to add to your assortment as well as tips and tricks for showing them off in your … Continue reading Sugar Splash + Holiday Products presents Wednesdays at One
URL:https://holidayproductsresource.com/event/may1-2025-manufacturer-price-increase-notice/
CATEGORIES:Price Increase Alert
ATTACH;FMTTYPE=image/jpeg:https://holidayproductsresource.com/wp-content/uploads/2021/03/Holiday-Price-increase.jpg
END:VEVENT
BEGIN:VEVENT
DTSTART;VALUE=DATE:20250512
DTEND;VALUE=DATE:20250513
DTSTAMP:20260421T051719
CREATED:20250501T215912Z
LAST-MODIFIED:20250603T183749Z
UID:30859-1747008000-1747094399@holidayproductsresource.com
SUMMARY:May 12\, 2025 Manufacturer Price Increase Notice
DESCRIPTION:Join Holiday Products + Sugar Splash on Zoom to learn about their latest & greatest items\, presented by Boaz La Bleu! This product training aims to help you learn all about some great potential new items for you to add to your assortment as well as tips and tricks for showing them off in your … Continue reading Sugar Splash + Holiday Products presents Wednesdays at One
URL:https://holidayproductsresource.com/event/may-12-2025-manufacturer-price-increase-notice/
LOCATION:Your Store
CATEGORIES:Price Increase Alert
ATTACH;FMTTYPE=image/jpeg:https://holidayproductsresource.com/wp-content/uploads/2021/03/Holiday-Price-increase.jpg
END:VEVENT
BEGIN:VEVENT
DTSTART;VALUE=DATE:20250519
DTEND;VALUE=DATE:20250520
DTSTAMP:20260421T051719
CREATED:20250421T184856Z
LAST-MODIFIED:20250512T201118Z
UID:30776-1747612800-1747699199@holidayproductsresource.com
SUMMARY:May 19\, 2025 Manufacturer Price Increase Notice
DESCRIPTION:Join Holiday Products + Sugar Splash on Zoom to learn about their latest & greatest items\, presented by Boaz La Bleu! This product training aims to help you learn all about some great potential new items for you to add to your assortment as well as tips and tricks for showing them off in your … Continue reading Sugar Splash + Holiday Products presents Wednesdays at One
URL:https://holidayproductsresource.com/event/may-19-2025-manufacturer-price-increase-notice/
LOCATION:Your Store
CATEGORIES:Price Increase Alert
ATTACH;FMTTYPE=image/jpeg:https://holidayproductsresource.com/wp-content/uploads/2021/03/Holiday-Price-increase.jpg
END:VEVENT
BEGIN:VEVENT
DTSTART;TZID=America/Los_Angeles:20250528T100000
DTEND;TZID=America/Los_Angeles:20250528T110000
DTSTAMP:20260421T051719
CREATED:20250522T184246Z
LAST-MODIFIED:20250522T184246Z
UID:31054-1748426400-1748430000@holidayproductsresource.com
SUMMARY:SWPA Presents: The Power of Storytelling in Sales & Marketing
DESCRIPTION:Join Holiday Products + Sugar Splash on Zoom to learn about their latest & greatest items\, presented by Boaz La Bleu! This product training aims to help you learn all about some great potential new items for you to add to your assortment as well as tips and tricks for showing them off in your … Continue reading Sugar Splash + Holiday Products presents Wednesdays at One
URL:https://holidayproductsresource.com/event/swpa-presents-the-power-of-storytelling-in-sales-marketing/
CATEGORIES:Webinar
ATTACH;FMTTYPE=image/png:https://holidayproductsresource.com/wp-content/uploads/2025/05/swpa-5.28.png
END:VEVENT
BEGIN:VEVENT
DTSTART;VALUE=DATE:20250531
DTEND;VALUE=DATE:20250601
DTSTAMP:20260421T051719
CREATED:20250519T231305Z
LAST-MODIFIED:20250523T223436Z
UID:31037-1748649600-1748735999@holidayproductsresource.com
SUMMARY:May 31\, 2025 Manufacturer Price Increase Notice
DESCRIPTION:Join Holiday Products + Sugar Splash on Zoom to learn about their latest & greatest items\, presented by Boaz La Bleu! This product training aims to help you learn all about some great potential new items for you to add to your assortment as well as tips and tricks for showing them off in your … Continue reading Sugar Splash + Holiday Products presents Wednesdays at One
URL:https://holidayproductsresource.com/event/may-31-2025-manufacturer-price-increase-notice/
LOCATION:Your Store
CATEGORIES:Price Increase Alert
ATTACH;FMTTYPE=image/jpeg:https://holidayproductsresource.com/wp-content/uploads/2021/03/Holiday-Price-increase.jpg
END:VEVENT
END:VCALENDAR