BEGIN:VCALENDAR
VERSION:2.0
PRODID:-//The RESOURCE by Molly - ECPv6.15.20//NONSGML v1.0//EN
CALSCALE:GREGORIAN
METHOD:PUBLISH
X-WR-CALNAME:The RESOURCE by Molly
X-ORIGINAL-URL:https://holidayproductsresource.com
X-WR-CALDESC:Events for The RESOURCE by Molly
REFRESH-INTERVAL;VALUE=DURATION:PT1H
X-Robots-Tag:noindex
X-PUBLISHED-TTL:PT1H
BEGIN:VTIMEZONE
TZID:America/Los_Angeles
BEGIN:DAYLIGHT
TZOFFSETFROM:-0800
TZOFFSETTO:-0700
TZNAME:PDT
DTSTART:20200308T100000
END:DAYLIGHT
BEGIN:STANDARD
TZOFFSETFROM:-0700
TZOFFSETTO:-0800
TZNAME:PST
DTSTART:20201101T090000
END:STANDARD
BEGIN:DAYLIGHT
TZOFFSETFROM:-0800
TZOFFSETTO:-0700
TZNAME:PDT
DTSTART:20210314T100000
END:DAYLIGHT
BEGIN:STANDARD
TZOFFSETFROM:-0700
TZOFFSETTO:-0800
TZNAME:PST
DTSTART:20211107T090000
END:STANDARD
BEGIN:DAYLIGHT
TZOFFSETFROM:-0800
TZOFFSETTO:-0700
TZNAME:PDT
DTSTART:20220313T100000
END:DAYLIGHT
BEGIN:STANDARD
TZOFFSETFROM:-0700
TZOFFSETTO:-0800
TZNAME:PST
DTSTART:20221106T090000
END:STANDARD
BEGIN:DAYLIGHT
TZOFFSETFROM:-0800
TZOFFSETTO:-0700
TZNAME:PDT
DTSTART:20230312T100000
END:DAYLIGHT
BEGIN:STANDARD
TZOFFSETFROM:-0700
TZOFFSETTO:-0800
TZNAME:PST
DTSTART:20231105T090000
END:STANDARD
BEGIN:DAYLIGHT
TZOFFSETFROM:-0800
TZOFFSETTO:-0700
TZNAME:PDT
DTSTART:20240310T100000
END:DAYLIGHT
BEGIN:STANDARD
TZOFFSETFROM:-0700
TZOFFSETTO:-0800
TZNAME:PST
DTSTART:20241103T090000
END:STANDARD
BEGIN:DAYLIGHT
TZOFFSETFROM:-0800
TZOFFSETTO:-0700
TZNAME:PDT
DTSTART:20250309T100000
END:DAYLIGHT
BEGIN:STANDARD
TZOFFSETFROM:-0700
TZOFFSETTO:-0800
TZNAME:PST
DTSTART:20251102T090000
END:STANDARD
BEGIN:DAYLIGHT
TZOFFSETFROM:-0800
TZOFFSETTO:-0700
TZNAME:PDT
DTSTART:20260308T100000
END:DAYLIGHT
BEGIN:STANDARD
TZOFFSETFROM:-0700
TZOFFSETTO:-0800
TZNAME:PST
DTSTART:20261101T090000
END:STANDARD
END:VTIMEZONE
BEGIN:VEVENT
DTSTART;TZID=America/Los_Angeles:20210324T080000
DTEND;TZID=America/Los_Angeles:20250331T233000
DTSTAMP:20260421T153310
CREATED:20210324T205731Z
LAST-MODIFIED:20250401T230015Z
UID:18820-1616572800-1743463800@holidayproductsresource.com
SUMMARY:ONGOING - Wicked Sensual Care Retail Employee Spotlight
DESCRIPTION:Join Holiday Products + Sugar Splash on Zoom to learn about their latest & greatest items\, presented by Boaz La Bleu! This product training aims to help you learn all about some great potential new items for you to add to your assortment as well as tips and tricks for showing them off in your … Continue reading Sugar Splash + Holiday Products presents Wednesdays at One
URL:https://holidayproductsresource.com/event/wicked-sensual-care-retail-employee-spotlight/
LOCATION:Your Store
CATEGORIES:Contest
ATTACH;FMTTYPE=image/png:https://holidayproductsresource.com/wp-content/uploads/2021/03/WSC_HeroBanner-640x700-1.png
END:VEVENT
BEGIN:VEVENT
DTSTART;VALUE=DATE:20250101
DTEND;VALUE=DATE:20250102
DTSTAMP:20260421T153310
CREATED:20241005T160052Z
LAST-MODIFIED:20241005T130150Z
UID:29374-1735689600-1735775999@holidayproductsresource.com
SUMMARY:January 1\, 2025 Manufacturer Price Increase Notice
DESCRIPTION:Join Holiday Products + Sugar Splash on Zoom to learn about their latest & greatest items\, presented by Boaz La Bleu! This product training aims to help you learn all about some great potential new items for you to add to your assortment as well as tips and tricks for showing them off in your … Continue reading Sugar Splash + Holiday Products presents Wednesdays at One
URL:https://holidayproductsresource.com/event/january-1-2025-manufacturer-price-increase-notice/
LOCATION:Your Store
CATEGORIES:Price Increase Alert
ATTACH;FMTTYPE=image/jpeg:https://holidayproductsresource.com/wp-content/uploads/2021/03/Holiday-Price-increase.jpg
END:VEVENT
BEGIN:VEVENT
DTSTART;TZID=America/Los_Angeles:20250107T100000
DTEND;TZID=America/Los_Angeles:20250109T190000
DTSTAMP:20260421T153310
CREATED:20241227T150006Z
LAST-MODIFIED:20241227T140307Z
UID:29999-1736244000-1736449200@holidayproductsresource.com
SUMMARY:Maia Virtual New Release Trade Show
DESCRIPTION:Join Holiday Products + Sugar Splash on Zoom to learn about their latest & greatest items\, presented by Boaz La Bleu! This product training aims to help you learn all about some great potential new items for you to add to your assortment as well as tips and tricks for showing them off in your … Continue reading Sugar Splash + Holiday Products presents Wednesdays at One
URL:https://holidayproductsresource.com/event/maia-virtual-new-release-trade-show/
LOCATION:Online
CATEGORIES:Product Training
ATTACH;FMTTYPE=image/jpeg:https://holidayproductsresource.com/wp-content/uploads/2024/12/maia-show-jan-2025-1.jpg
END:VEVENT
BEGIN:VEVENT
DTSTART;TZID=America/Los_Angeles:20250121T090000
DTEND;TZID=America/Los_Angeles:20250121T160000
DTSTAMP:20260421T153310
CREATED:20250108T085135Z
LAST-MODIFIED:20250108T085250Z
UID:30068-1737450000-1737475200@holidayproductsresource.com
SUMMARY:CalExotics Spring 2025 New Release Zoom
DESCRIPTION:Join Holiday Products + Sugar Splash on Zoom to learn about their latest & greatest items\, presented by Boaz La Bleu! This product training aims to help you learn all about some great potential new items for you to add to your assortment as well as tips and tricks for showing them off in your … Continue reading Sugar Splash + Holiday Products presents Wednesdays at One
URL:https://holidayproductsresource.com/event/calexotics-spring-2025-new-release-zoom/
LOCATION:Zoom
CATEGORIES:Product Training
ATTACH;FMTTYPE=image/png:https://holidayproductsresource.com/wp-content/uploads/2025/01/CalExotics-New-Item-Zoom-Jan-2025-2.png
END:VEVENT
BEGIN:VEVENT
DTSTART;VALUE=DATE:20250129
DTEND;VALUE=DATE:20250130
DTSTAMP:20260421T153310
CREATED:20241204T150036Z
LAST-MODIFIED:20241204T093711Z
UID:29820-1738108800-1738195199@holidayproductsresource.com
SUMMARY:STIMULATE+Workshop presented by Nu Sensuelle
DESCRIPTION:Join Holiday Products + Sugar Splash on Zoom to learn about their latest & greatest items\, presented by Boaz La Bleu! This product training aims to help you learn all about some great potential new items for you to add to your assortment as well as tips and tricks for showing them off in your … Continue reading Sugar Splash + Holiday Products presents Wednesdays at One
URL:https://holidayproductsresource.com/event/stimulateworkshop-presented-by-nu-sensuelle/
LOCATION:Online
CATEGORIES:Webinar
ATTACH;FMTTYPE=image/jpeg:https://holidayproductsresource.com/wp-content/uploads/2024/12/Stimulate-Jan-2025-workshop.jpg
END:VEVENT
BEGIN:VEVENT
DTSTART;TZID=America/Los_Angeles:20250130T120000
DTEND;TZID=America/Los_Angeles:20250130T133000
DTSTAMP:20260421T153310
CREATED:20250127T014417Z
LAST-MODIFIED:20250127T014417Z
UID:30205-1738238400-1738243800@holidayproductsresource.com
SUMMARY:Your Body is Changing – Jessica Drake and Joan Price Live WSC Q&A 01.30.2025
DESCRIPTION:Join Holiday Products + Sugar Splash on Zoom to learn about their latest & greatest items\, presented by Boaz La Bleu! This product training aims to help you learn all about some great potential new items for you to add to your assortment as well as tips and tricks for showing them off in your … Continue reading Sugar Splash + Holiday Products presents Wednesdays at One
URL:https://holidayproductsresource.com/event/your-body-is-changing-jessica-drake-and-joan-price-live-wsc-qa-01-30-2025/
LOCATION:Instagram
CATEGORIES:Instagram Live
ATTACH;FMTTYPE=image/png:https://holidayproductsresource.com/wp-content/uploads/2025/01/WSC-01.30.25.png
END:VEVENT
END:VCALENDAR