BEGIN:VCALENDAR
VERSION:2.0
PRODID:-//The RESOURCE by Molly - ECPv6.15.20//NONSGML v1.0//EN
CALSCALE:GREGORIAN
METHOD:PUBLISH
X-ORIGINAL-URL:https://holidayproductsresource.com
X-WR-CALDESC:Events for The RESOURCE by Molly
REFRESH-INTERVAL;VALUE=DURATION:PT1H
X-Robots-Tag:noindex
X-PUBLISHED-TTL:PT1H
BEGIN:VTIMEZONE
TZID:America/Los_Angeles
BEGIN:DAYLIGHT
TZOFFSETFROM:-0800
TZOFFSETTO:-0700
TZNAME:PDT
DTSTART:20200308T100000
END:DAYLIGHT
BEGIN:STANDARD
TZOFFSETFROM:-0700
TZOFFSETTO:-0800
TZNAME:PST
DTSTART:20201101T090000
END:STANDARD
BEGIN:DAYLIGHT
TZOFFSETFROM:-0800
TZOFFSETTO:-0700
TZNAME:PDT
DTSTART:20210314T100000
END:DAYLIGHT
BEGIN:STANDARD
TZOFFSETFROM:-0700
TZOFFSETTO:-0800
TZNAME:PST
DTSTART:20211107T090000
END:STANDARD
BEGIN:DAYLIGHT
TZOFFSETFROM:-0800
TZOFFSETTO:-0700
TZNAME:PDT
DTSTART:20220313T100000
END:DAYLIGHT
BEGIN:STANDARD
TZOFFSETFROM:-0700
TZOFFSETTO:-0800
TZNAME:PST
DTSTART:20221106T090000
END:STANDARD
BEGIN:DAYLIGHT
TZOFFSETFROM:-0800
TZOFFSETTO:-0700
TZNAME:PDT
DTSTART:20230312T100000
END:DAYLIGHT
BEGIN:STANDARD
TZOFFSETFROM:-0700
TZOFFSETTO:-0800
TZNAME:PST
DTSTART:20231105T090000
END:STANDARD
BEGIN:DAYLIGHT
TZOFFSETFROM:-0800
TZOFFSETTO:-0700
TZNAME:PDT
DTSTART:20240310T100000
END:DAYLIGHT
BEGIN:STANDARD
TZOFFSETFROM:-0700
TZOFFSETTO:-0800
TZNAME:PST
DTSTART:20241103T090000
END:STANDARD
BEGIN:DAYLIGHT
TZOFFSETFROM:-0800
TZOFFSETTO:-0700
TZNAME:PDT
DTSTART:20250309T100000
END:DAYLIGHT
BEGIN:STANDARD
TZOFFSETFROM:-0700
TZOFFSETTO:-0800
TZNAME:PST
DTSTART:20251102T090000
END:STANDARD
BEGIN:DAYLIGHT
TZOFFSETFROM:-0800
TZOFFSETTO:-0700
TZNAME:PDT
DTSTART:20260308T100000
END:DAYLIGHT
BEGIN:STANDARD
TZOFFSETFROM:-0700
TZOFFSETTO:-0800
TZNAME:PST
DTSTART:20261101T090000
END:STANDARD
END:VTIMEZONE
BEGIN:VEVENT
DTSTART;TZID=America/Los_Angeles:20210324T080000
DTEND;TZID=America/Los_Angeles:20250331T233000
DTSTAMP:20260421T173124
CREATED:20210324T205731Z
LAST-MODIFIED:20250401T230015Z
UID:18820-1616572800-1743463800@holidayproductsresource.com
SUMMARY:ONGOING - Wicked Sensual Care Retail Employee Spotlight
DESCRIPTION:Join Holiday Products + Sugar Splash on Zoom to learn about their latest & greatest items\, presented by Boaz La Bleu! This product training aims to help you learn all about some great potential new items for you to add to your assortment as well as tips and tricks for showing them off in your … Continue reading Sugar Splash + Holiday Products presents Wednesdays at One
URL:https://holidayproductsresource.com/event/wicked-sensual-care-retail-employee-spotlight/
LOCATION:Your Store
CATEGORIES:Contest
ATTACH;FMTTYPE=image/png:https://holidayproductsresource.com/wp-content/uploads/2021/03/WSC_HeroBanner-640x700-1.png
END:VEVENT
BEGIN:VEVENT
DTSTART;TZID=America/Los_Angeles:20240913T080000
DTEND;TZID=America/Los_Angeles:20241115T235900
DTSTAMP:20260421T173124
CREATED:20240914T014321Z
LAST-MODIFIED:20241016T161725Z
UID:29189-1726214400-1731715140@holidayproductsresource.com
SUMMARY:Maia NALA Social Media Video Contest
DESCRIPTION:Join Holiday Products + Sugar Splash on Zoom to learn about their latest & greatest items\, presented by Boaz La Bleu! This product training aims to help you learn all about some great potential new items for you to add to your assortment as well as tips and tricks for showing them off in your … Continue reading Sugar Splash + Holiday Products presents Wednesdays at One
URL:https://holidayproductsresource.com/event/maia-nala-social-media-video-contest/
LOCATION:Your Store
CATEGORIES:Contest
ATTACH;FMTTYPE=image/png:https://holidayproductsresource.com/wp-content/uploads/2024/09/Maia-nala-contest-cover.png
END:VEVENT
BEGIN:VEVENT
DTSTART;TZID=America/Los_Angeles:20241101T030000
DTEND;TZID=America/Los_Angeles:20241215T205900
DTSTAMP:20260421T173124
CREATED:20241021T014835Z
LAST-MODIFIED:20241021T015016Z
UID:29523-1730430000-1734296340@holidayproductsresource.com
SUMMARY:BFCM MAP Allowances 2024
DESCRIPTION:Join Holiday Products + Sugar Splash on Zoom to learn about their latest & greatest items\, presented by Boaz La Bleu! This product training aims to help you learn all about some great potential new items for you to add to your assortment as well as tips and tricks for showing them off in your … Continue reading Sugar Splash + Holiday Products presents Wednesdays at One
URL:https://holidayproductsresource.com/event/bfcm-map-allowances-2024/
LOCATION:Your Store
CATEGORIES:MAP Allowance Event
ATTACH;FMTTYPE=image/png:https://holidayproductsresource.com/wp-content/uploads/2024/10/MAP-Allowance-1124.png
END:VEVENT
BEGIN:VEVENT
DTSTART;TZID=America/Los_Angeles:20241111T120000
DTEND;TZID=America/Los_Angeles:20241127T000000
DTSTAMP:20260421T173124
CREATED:20240930T224220Z
LAST-MODIFIED:20240930T224220Z
UID:29331-1731326400-1732665600@holidayproductsresource.com
SUMMARY:EXSENS Happy Birthday Contest
DESCRIPTION:Join Holiday Products + Sugar Splash on Zoom to learn about their latest & greatest items\, presented by Boaz La Bleu! This product training aims to help you learn all about some great potential new items for you to add to your assortment as well as tips and tricks for showing them off in your … Continue reading Sugar Splash + Holiday Products presents Wednesdays at One
URL:https://holidayproductsresource.com/event/exsens-happy-birthday-contest/
LOCATION:Instagram
CATEGORIES:Contest
ATTACH;FMTTYPE=image/jpeg:https://holidayproductsresource.com/wp-content/uploads/2024/09/Cake-Only-Banner.jpg
END:VEVENT
BEGIN:VEVENT
DTSTART;TZID=America/Los_Angeles:20241119T080000
DTEND;TZID=America/Los_Angeles:20241224T170000
DTSTAMP:20260421T173124
CREATED:20241126T160022Z
LAST-MODIFIED:20241126T115615Z
UID:29725-1732003200-1735059600@holidayproductsresource.com
SUMMARY:2024 Holiday Shipping Deadlines for Dec 25th Arrival
DESCRIPTION:Join Holiday Products + Sugar Splash on Zoom to learn about their latest & greatest items\, presented by Boaz La Bleu! This product training aims to help you learn all about some great potential new items for you to add to your assortment as well as tips and tricks for showing them off in your … Continue reading Sugar Splash + Holiday Products presents Wednesdays at One
URL:https://holidayproductsresource.com/event/2024-holiday-shipping-deadlines-for-dec-25th-arrival/
CATEGORIES:Special Holiday Hours
ATTACH;FMTTYPE=image/jpeg:https://holidayproductsresource.com/wp-content/uploads/2024/11/clay-leconey-JrD1JvIZrLw-unsplash.jpg
END:VEVENT
BEGIN:VEVENT
DTSTART;TZID=America/Los_Angeles:20241125T080000
DTEND;TZID=America/Los_Angeles:20241203T170000
DTSTAMP:20260421T173124
CREATED:20241126T201237Z
LAST-MODIFIED:20241203T024009Z
UID:29763-1732521600-1733245200@holidayproductsresource.com
SUMMARY:BFCM VIP Super Sale 2024!
DESCRIPTION:Join Holiday Products + Sugar Splash on Zoom to learn about their latest & greatest items\, presented by Boaz La Bleu! This product training aims to help you learn all about some great potential new items for you to add to your assortment as well as tips and tricks for showing them off in your … Continue reading Sugar Splash + Holiday Products presents Wednesdays at One
URL:https://holidayproductsresource.com/event/bfcm-sale-2024/
LOCATION:Holiday Products\, 20950 Lassen St\, Chatsworth\, CA\, 91311\, United States
CATEGORIES:Sale Alert
ATTACH;FMTTYPE=image/png:https://holidayproductsresource.com/wp-content/uploads/2024/11/BFCM-2024.png
ORGANIZER;CN="Holiday Products":MAILTO:sales@holidayproducts.com
END:VEVENT
BEGIN:VEVENT
DTSTART;TZID=America/Los_Angeles:20241126T080000
DTEND;TZID=America/Los_Angeles:20241202T060000
DTSTAMP:20260421T173124
CREATED:20241126T150030Z
LAST-MODIFIED:20241126T115530Z
UID:29758-1732608000-1733119200@holidayproductsresource.com
SUMMARY:Thanksgiving Hours 2024
DESCRIPTION:Join Holiday Products + Sugar Splash on Zoom to learn about their latest & greatest items\, presented by Boaz La Bleu! This product training aims to help you learn all about some great potential new items for you to add to your assortment as well as tips and tricks for showing them off in your … Continue reading Sugar Splash + Holiday Products presents Wednesdays at One
URL:https://holidayproductsresource.com/event/thanksgiving-hours-2024/
CATEGORIES:Special Holiday Hours
ATTACH;FMTTYPE=image/png:https://holidayproductsresource.com/wp-content/uploads/2024/11/Thanksgiving-Hours-2024-1.png
END:VEVENT
END:VCALENDAR