BEGIN:VCALENDAR
VERSION:2.0
PRODID:-//The RESOURCE by Molly - ECPv6.15.20//NONSGML v1.0//EN
CALSCALE:GREGORIAN
METHOD:PUBLISH
X-ORIGINAL-URL:https://holidayproductsresource.com
X-WR-CALDESC:Events for The RESOURCE by Molly
REFRESH-INTERVAL;VALUE=DURATION:PT1H
X-Robots-Tag:noindex
X-PUBLISHED-TTL:PT1H
BEGIN:VTIMEZONE
TZID:America/Los_Angeles
BEGIN:DAYLIGHT
TZOFFSETFROM:-0800
TZOFFSETTO:-0700
TZNAME:PDT
DTSTART:20200308T100000
END:DAYLIGHT
BEGIN:STANDARD
TZOFFSETFROM:-0700
TZOFFSETTO:-0800
TZNAME:PST
DTSTART:20201101T090000
END:STANDARD
BEGIN:DAYLIGHT
TZOFFSETFROM:-0800
TZOFFSETTO:-0700
TZNAME:PDT
DTSTART:20210314T100000
END:DAYLIGHT
BEGIN:STANDARD
TZOFFSETFROM:-0700
TZOFFSETTO:-0800
TZNAME:PST
DTSTART:20211107T090000
END:STANDARD
BEGIN:DAYLIGHT
TZOFFSETFROM:-0800
TZOFFSETTO:-0700
TZNAME:PDT
DTSTART:20220313T100000
END:DAYLIGHT
BEGIN:STANDARD
TZOFFSETFROM:-0700
TZOFFSETTO:-0800
TZNAME:PST
DTSTART:20221106T090000
END:STANDARD
BEGIN:DAYLIGHT
TZOFFSETFROM:-0800
TZOFFSETTO:-0700
TZNAME:PDT
DTSTART:20230312T100000
END:DAYLIGHT
BEGIN:STANDARD
TZOFFSETFROM:-0700
TZOFFSETTO:-0800
TZNAME:PST
DTSTART:20231105T090000
END:STANDARD
BEGIN:DAYLIGHT
TZOFFSETFROM:-0800
TZOFFSETTO:-0700
TZNAME:PDT
DTSTART:20240310T100000
END:DAYLIGHT
BEGIN:STANDARD
TZOFFSETFROM:-0700
TZOFFSETTO:-0800
TZNAME:PST
DTSTART:20241103T090000
END:STANDARD
BEGIN:DAYLIGHT
TZOFFSETFROM:-0800
TZOFFSETTO:-0700
TZNAME:PDT
DTSTART:20250309T100000
END:DAYLIGHT
BEGIN:STANDARD
TZOFFSETFROM:-0700
TZOFFSETTO:-0800
TZNAME:PST
DTSTART:20251102T090000
END:STANDARD
BEGIN:DAYLIGHT
TZOFFSETFROM:-0800
TZOFFSETTO:-0700
TZNAME:PDT
DTSTART:20260308T100000
END:DAYLIGHT
BEGIN:STANDARD
TZOFFSETFROM:-0700
TZOFFSETTO:-0800
TZNAME:PST
DTSTART:20261101T090000
END:STANDARD
END:VTIMEZONE
BEGIN:VEVENT
DTSTART;TZID=America/Los_Angeles:20210324T080000
DTEND;TZID=America/Los_Angeles:20250331T233000
DTSTAMP:20260423T031632
CREATED:20210324T205731Z
LAST-MODIFIED:20250401T230015Z
UID:18820-1616572800-1743463800@holidayproductsresource.com
SUMMARY:ONGOING - Wicked Sensual Care Retail Employee Spotlight
DESCRIPTION:Join Holiday Products + Sugar Splash on Zoom to learn about their latest & greatest items\, presented by Boaz La Bleu! This product training aims to help you learn all about some great potential new items for you to add to your assortment as well as tips and tricks for showing them off in your … Continue reading Sugar Splash + Holiday Products presents Wednesdays at One
URL:https://holidayproductsresource.com/event/wicked-sensual-care-retail-employee-spotlight/
LOCATION:Your Store
CATEGORIES:Contest
ATTACH;FMTTYPE=image/png:https://holidayproductsresource.com/wp-content/uploads/2021/03/WSC_HeroBanner-640x700-1.png
END:VEVENT
BEGIN:VEVENT
DTSTART;TZID=America/Los_Angeles:20240913T080000
DTEND;TZID=America/Los_Angeles:20241115T235900
DTSTAMP:20260423T031632
CREATED:20240914T014321Z
LAST-MODIFIED:20241016T161725Z
UID:29189-1726214400-1731715140@holidayproductsresource.com
SUMMARY:Maia NALA Social Media Video Contest
DESCRIPTION:Join Holiday Products + Sugar Splash on Zoom to learn about their latest & greatest items\, presented by Boaz La Bleu! This product training aims to help you learn all about some great potential new items for you to add to your assortment as well as tips and tricks for showing them off in your … Continue reading Sugar Splash + Holiday Products presents Wednesdays at One
URL:https://holidayproductsresource.com/event/maia-nala-social-media-video-contest/
LOCATION:Your Store
CATEGORIES:Contest
ATTACH;FMTTYPE=image/png:https://holidayproductsresource.com/wp-content/uploads/2024/09/Maia-nala-contest-cover.png
END:VEVENT
BEGIN:VEVENT
DTSTART;TZID=America/Los_Angeles:20240917T080000
DTEND;TZID=America/Los_Angeles:20241021T235900
DTSTAMP:20260423T031632
CREATED:20240917T192052Z
LAST-MODIFIED:20240917T192052Z
UID:29223-1726560000-1729555140@holidayproductsresource.com
SUMMARY:CalExotics Halloween Contest
DESCRIPTION:Join Holiday Products + Sugar Splash on Zoom to learn about their latest & greatest items\, presented by Boaz La Bleu! This product training aims to help you learn all about some great potential new items for you to add to your assortment as well as tips and tricks for showing them off in your … Continue reading Sugar Splash + Holiday Products presents Wednesdays at One
URL:https://holidayproductsresource.com/event/calexotics-halloween-contest/
LOCATION:Your Store
CATEGORIES:Contest
ATTACH;FMTTYPE=image/png:https://holidayproductsresource.com/wp-content/uploads/2024/09/CalEx-Halloween-Contest-2024-cover.png
END:VEVENT
BEGIN:VEVENT
DTSTART;VALUE=DATE:20241001
DTEND;VALUE=DATE:20241002
DTSTAMP:20260423T031632
CREATED:20240920T212956Z
LAST-MODIFIED:20240920T223238Z
UID:29240-1727740800-1727827199@holidayproductsresource.com
SUMMARY:October 1\, 2024 Price Increase Alert
DESCRIPTION:Join Holiday Products + Sugar Splash on Zoom to learn about their latest & greatest items\, presented by Boaz La Bleu! This product training aims to help you learn all about some great potential new items for you to add to your assortment as well as tips and tricks for showing them off in your … Continue reading Sugar Splash + Holiday Products presents Wednesdays at One
URL:https://holidayproductsresource.com/event/october-1-2024-price-increase-alert/
LOCATION:Your Store
CATEGORIES:Price Increase Alert
ATTACH;FMTTYPE=image/jpeg:https://holidayproductsresource.com/wp-content/uploads/2021/03/Holiday-Price-increase.jpg
END:VEVENT
BEGIN:VEVENT
DTSTART;TZID=America/Los_Angeles:20241015T080000
DTEND;TZID=America/Los_Angeles:20241022T235900
DTSTAMP:20260423T031632
CREATED:20241015T140023Z
LAST-MODIFIED:20241015T112342Z
UID:29460-1728979200-1729641540@holidayproductsresource.com
SUMMARY:Enter to Win a Blush Boo Basket!
DESCRIPTION:Join Holiday Products + Sugar Splash on Zoom to learn about their latest & greatest items\, presented by Boaz La Bleu! This product training aims to help you learn all about some great potential new items for you to add to your assortment as well as tips and tricks for showing them off in your … Continue reading Sugar Splash + Holiday Products presents Wednesdays at One
URL:https://holidayproductsresource.com/event/enter-to-win-a-blush-boo-basket/
LOCATION:Online
CATEGORIES:Contest
ATTACH;FMTTYPE=image/png:https://holidayproductsresource.com/wp-content/uploads/2024/10/Blush-boo-header.png
END:VEVENT
BEGIN:VEVENT
DTSTART;TZID=America/Los_Angeles:20241015T123000
DTEND;TZID=America/Los_Angeles:20241015T130000
DTSTAMP:20260423T031632
CREATED:20240930T214807Z
LAST-MODIFIED:20240930T214824Z
UID:29327-1728995400-1728997200@holidayproductsresource.com
SUMMARY:JESSICA DRAKE AND JOAN PRICE LIVE WSC Q&A 10.15.24
DESCRIPTION:Join Holiday Products + Sugar Splash on Zoom to learn about their latest & greatest items\, presented by Boaz La Bleu! This product training aims to help you learn all about some great potential new items for you to add to your assortment as well as tips and tricks for showing them off in your … Continue reading Sugar Splash + Holiday Products presents Wednesdays at One
URL:https://holidayproductsresource.com/event/jessica-drake-and-joan-price-live-wsc-qa-10-15-24/
LOCATION:Instagram
CATEGORIES:Instagram Live
ATTACH;FMTTYPE=image/png:https://holidayproductsresource.com/wp-content/uploads/2024/09/461676821_1093622446106390_2001900060028381486_n.png
END:VEVENT
BEGIN:VEVENT
DTSTART;TZID=America/Los_Angeles:20241017T180000
DTEND;TZID=America/Los_Angeles:20241017T193000
DTSTAMP:20260423T031632
CREATED:20241005T193850Z
LAST-MODIFIED:20241015T182119Z
UID:29378-1729188000-1729193400@holidayproductsresource.com
SUMMARY:SWPA Webinars: A Deep Dive Into Pleasure Toys with Kim Airs
DESCRIPTION:Join Holiday Products + Sugar Splash on Zoom to learn about their latest & greatest items\, presented by Boaz La Bleu! This product training aims to help you learn all about some great potential new items for you to add to your assortment as well as tips and tricks for showing them off in your … Continue reading Sugar Splash + Holiday Products presents Wednesdays at One
URL:https://holidayproductsresource.com/event/swpa-webinars-a-deep-dive-into-pleasure-toys-with-kim-airs/
LOCATION:Online
CATEGORIES:Webinar
ATTACH;FMTTYPE=image/png:https://holidayproductsresource.com/wp-content/uploads/2024/10/Kim-Airs-deep-dive.png
END:VEVENT
BEGIN:VEVENT
DTSTART;VALUE=DATE:20241028
DTEND;VALUE=DATE:20241029
DTSTAMP:20260423T031632
CREATED:20241005T145412Z
LAST-MODIFIED:20241005T125845Z
UID:29372-1730073600-1730159999@holidayproductsresource.com
SUMMARY:October 28\, 2024 Manufacturer Price Increase Notice
DESCRIPTION:Join Holiday Products + Sugar Splash on Zoom to learn about their latest & greatest items\, presented by Boaz La Bleu! This product training aims to help you learn all about some great potential new items for you to add to your assortment as well as tips and tricks for showing them off in your … Continue reading Sugar Splash + Holiday Products presents Wednesdays at One
URL:https://holidayproductsresource.com/event/october-28-2024-manufacturer-price-increase-notice/
LOCATION:Your Store
CATEGORIES:Price Increase Alert
ATTACH;FMTTYPE=image/jpeg:https://holidayproductsresource.com/wp-content/uploads/2021/03/Holiday-Price-increase.jpg
END:VEVENT
END:VCALENDAR