BEGIN:VCALENDAR
VERSION:2.0
PRODID:-//The RESOURCE by Molly - ECPv6.15.20//NONSGML v1.0//EN
CALSCALE:GREGORIAN
METHOD:PUBLISH
X-WR-CALNAME:The RESOURCE by Molly
X-ORIGINAL-URL:https://holidayproductsresource.com
X-WR-CALDESC:Events for The RESOURCE by Molly
REFRESH-INTERVAL;VALUE=DURATION:PT1H
X-Robots-Tag:noindex
X-PUBLISHED-TTL:PT1H
BEGIN:VTIMEZONE
TZID:America/Los_Angeles
BEGIN:DAYLIGHT
TZOFFSETFROM:-0800
TZOFFSETTO:-0700
TZNAME:PDT
DTSTART:20200308T100000
END:DAYLIGHT
BEGIN:STANDARD
TZOFFSETFROM:-0700
TZOFFSETTO:-0800
TZNAME:PST
DTSTART:20201101T090000
END:STANDARD
BEGIN:DAYLIGHT
TZOFFSETFROM:-0800
TZOFFSETTO:-0700
TZNAME:PDT
DTSTART:20210314T100000
END:DAYLIGHT
BEGIN:STANDARD
TZOFFSETFROM:-0700
TZOFFSETTO:-0800
TZNAME:PST
DTSTART:20211107T090000
END:STANDARD
BEGIN:DAYLIGHT
TZOFFSETFROM:-0800
TZOFFSETTO:-0700
TZNAME:PDT
DTSTART:20220313T100000
END:DAYLIGHT
BEGIN:STANDARD
TZOFFSETFROM:-0700
TZOFFSETTO:-0800
TZNAME:PST
DTSTART:20221106T090000
END:STANDARD
BEGIN:DAYLIGHT
TZOFFSETFROM:-0800
TZOFFSETTO:-0700
TZNAME:PDT
DTSTART:20230312T100000
END:DAYLIGHT
BEGIN:STANDARD
TZOFFSETFROM:-0700
TZOFFSETTO:-0800
TZNAME:PST
DTSTART:20231105T090000
END:STANDARD
BEGIN:DAYLIGHT
TZOFFSETFROM:-0800
TZOFFSETTO:-0700
TZNAME:PDT
DTSTART:20240310T100000
END:DAYLIGHT
BEGIN:STANDARD
TZOFFSETFROM:-0700
TZOFFSETTO:-0800
TZNAME:PST
DTSTART:20241103T090000
END:STANDARD
BEGIN:DAYLIGHT
TZOFFSETFROM:-0800
TZOFFSETTO:-0700
TZNAME:PDT
DTSTART:20250309T100000
END:DAYLIGHT
BEGIN:STANDARD
TZOFFSETFROM:-0700
TZOFFSETTO:-0800
TZNAME:PST
DTSTART:20251102T090000
END:STANDARD
BEGIN:DAYLIGHT
TZOFFSETFROM:-0800
TZOFFSETTO:-0700
TZNAME:PDT
DTSTART:20260308T100000
END:DAYLIGHT
BEGIN:STANDARD
TZOFFSETFROM:-0700
TZOFFSETTO:-0800
TZNAME:PST
DTSTART:20261101T090000
END:STANDARD
END:VTIMEZONE
BEGIN:VEVENT
DTSTART;TZID=America/Los_Angeles:20210324T080000
DTEND;TZID=America/Los_Angeles:20250331T233000
DTSTAMP:20260421T051312
CREATED:20210324T205731Z
LAST-MODIFIED:20250401T230015Z
UID:18820-1616572800-1743463800@holidayproductsresource.com
SUMMARY:ONGOING - Wicked Sensual Care Retail Employee Spotlight
DESCRIPTION:YOU'RE INVITED! FREE WEBINAR MASTERCLASS Pioneering Penis Pleasure Are you looking to test the waters of penis pleasure in entirely new ways? Whether it’s stroking\, licking\, squeezing\, admiring\, teasing\, or tasting there are so many ways to pioneer the frontiers of your own penis pleasure. In this upcoming webinar\, we’ll be covering the basics\, including … Continue reading Pioneering Penis Pleasure\, presented by Kinkly & Satisfyer
URL:https://holidayproductsresource.com/event/wicked-sensual-care-retail-employee-spotlight/
LOCATION:Your Store
CATEGORIES:Contest
ATTACH;FMTTYPE=image/png:https://holidayproductsresource.com/wp-content/uploads/2021/03/WSC_HeroBanner-640x700-1.png
END:VEVENT
BEGIN:VEVENT
DTSTART;TZID=America/Los_Angeles:20210321T080000
DTEND;TZID=America/Los_Angeles:20210424T170000
DTSTAMP:20260421T051312
CREATED:20210322T060537Z
LAST-MODIFIED:20210322T064408Z
UID:18786-1616313600-1619283600@holidayproductsresource.com
SUMMARY:Wicked Simply In-store Display Contest!
DESCRIPTION:YOU'RE INVITED! FREE WEBINAR MASTERCLASS Pioneering Penis Pleasure Are you looking to test the waters of penis pleasure in entirely new ways? Whether it’s stroking\, licking\, squeezing\, admiring\, teasing\, or tasting there are so many ways to pioneer the frontiers of your own penis pleasure. In this upcoming webinar\, we’ll be covering the basics\, including … Continue reading Pioneering Penis Pleasure\, presented by Kinkly & Satisfyer
URL:https://holidayproductsresource.com/event/wicked-simply-in-store-display-contest/
LOCATION:Social Media
CATEGORIES:Contest
ATTACH;FMTTYPE=image/jpeg:https://holidayproductsresource.com/wp-content/uploads/2021/03/W_Simply_Logo-pdf.jpg
END:VEVENT
BEGIN:VEVENT
DTSTART;TZID=America/Los_Angeles:20210316T180000
DTEND;TZID=America/Los_Angeles:20210316T193000
DTSTAMP:20260421T051312
CREATED:20210226T095657Z
LAST-MODIFIED:20210227T233158Z
UID:18559-1615917600-1615923000@holidayproductsresource.com
SUMMARY:Start A Business - Quick & Dirty -90 Minute Class
DESCRIPTION:YOU'RE INVITED! FREE WEBINAR MASTERCLASS Pioneering Penis Pleasure Are you looking to test the waters of penis pleasure in entirely new ways? Whether it’s stroking\, licking\, squeezing\, admiring\, teasing\, or tasting there are so many ways to pioneer the frontiers of your own penis pleasure. In this upcoming webinar\, we’ll be covering the basics\, including … Continue reading Pioneering Penis Pleasure\, presented by Kinkly & Satisfyer
URL:https://holidayproductsresource.com/event/start-a-business-quick-dirty-90-minute-class/
LOCATION:Facebook
CATEGORIES:Business Tips
ATTACH;FMTTYPE=image/jpeg:https://holidayproductsresource.com/wp-content/uploads/2021/02/Class.jpg
END:VEVENT
BEGIN:VEVENT
DTSTART;TZID=America/Los_Angeles:20210316T100000
DTEND;TZID=America/Los_Angeles:20210316T140000
DTSTAMP:20260421T051312
CREATED:20210302T224158Z
LAST-MODIFIED:20210302T224158Z
UID:18613-1615888800-1615903200@holidayproductsresource.com
SUMMARY:CalExotics March New Product Training
DESCRIPTION:YOU'RE INVITED! FREE WEBINAR MASTERCLASS Pioneering Penis Pleasure Are you looking to test the waters of penis pleasure in entirely new ways? Whether it’s stroking\, licking\, squeezing\, admiring\, teasing\, or tasting there are so many ways to pioneer the frontiers of your own penis pleasure. In this upcoming webinar\, we’ll be covering the basics\, including … Continue reading Pioneering Penis Pleasure\, presented by Kinkly & Satisfyer
URL:https://holidayproductsresource.com/event/calexotics-march-new-product-training/
LOCATION:Zoom
CATEGORIES:Product Training
ATTACH;FMTTYPE=image/jpeg:https://holidayproductsresource.com/wp-content/uploads/2021/03/CE-2021_03-WB-California_Dreaming-No_Product-v4a.jpg
END:VEVENT
BEGIN:VEVENT
DTSTART;TZID=America/Los_Angeles:20210311T163000
DTEND;TZID=America/Los_Angeles:20210311T173000
DTSTAMP:20260421T051312
CREATED:20210226T100621Z
LAST-MODIFIED:20220208T111144Z
UID:18564-1615480200-1615483800@holidayproductsresource.com
SUMMARY:Let’s Talk Lube
DESCRIPTION:YOU'RE INVITED! FREE WEBINAR MASTERCLASS Pioneering Penis Pleasure Are you looking to test the waters of penis pleasure in entirely new ways? Whether it’s stroking\, licking\, squeezing\, admiring\, teasing\, or tasting there are so many ways to pioneer the frontiers of your own penis pleasure. In this upcoming webinar\, we’ll be covering the basics\, including … Continue reading Pioneering Penis Pleasure\, presented by Kinkly & Satisfyer
URL:https://holidayproductsresource.com/event/lets-talk-lube/
LOCATION:Instagram
CATEGORIES:Product Training
ATTACH;FMTTYPE=image/png:https://holidayproductsresource.com/wp-content/uploads/2021/02/Wicked-Lets-Talk.png
END:VEVENT
BEGIN:VEVENT
DTSTART;TZID=America/Los_Angeles:20210308T070000
DTEND;TZID=America/Los_Angeles:20210312T170000
DTSTAMP:20260421T051312
CREATED:20210307T214300Z
LAST-MODIFIED:20210307T214300Z
UID:18670-1615186800-1615568400@holidayproductsresource.com
SUMMARY:Magic Silk / Male Power SPAM Takeover
DESCRIPTION:YOU'RE INVITED! FREE WEBINAR MASTERCLASS Pioneering Penis Pleasure Are you looking to test the waters of penis pleasure in entirely new ways? Whether it’s stroking\, licking\, squeezing\, admiring\, teasing\, or tasting there are so many ways to pioneer the frontiers of your own penis pleasure. In this upcoming webinar\, we’ll be covering the basics\, including … Continue reading Pioneering Penis Pleasure\, presented by Kinkly & Satisfyer
URL:https://holidayproductsresource.com/event/magic-silk-male-power-spam-takeover/
LOCATION:Facebook
CATEGORIES:Product Training
ATTACH;FMTTYPE=image/jpeg:https://holidayproductsresource.com/wp-content/uploads/2021/03/Magic-Silk-1.jpg
END:VEVENT
BEGIN:VEVENT
DTSTART;TZID=America/Los_Angeles:20210305T080000
DTEND;TZID=America/Los_Angeles:20210331T170000
DTSTAMP:20260421T051312
CREATED:20210306T044115Z
LAST-MODIFIED:20210306T044115Z
UID:18647-1614931200-1617210000@holidayproductsresource.com
SUMMARY:Nasstoys March Sale!
DESCRIPTION:YOU'RE INVITED! FREE WEBINAR MASTERCLASS Pioneering Penis Pleasure Are you looking to test the waters of penis pleasure in entirely new ways? Whether it’s stroking\, licking\, squeezing\, admiring\, teasing\, or tasting there are so many ways to pioneer the frontiers of your own penis pleasure. In this upcoming webinar\, we’ll be covering the basics\, including … Continue reading Pioneering Penis Pleasure\, presented by Kinkly & Satisfyer
URL:https://holidayproductsresource.com/event/nasstoys-march-sale/
ATTACH;FMTTYPE=image/png:https://holidayproductsresource.com/wp-content/uploads/2021/03/nasstoys-logo.png
ORGANIZER;CN="Holiday Products":MAILTO:sales@holidayproducts.com
END:VEVENT
BEGIN:VEVENT
DTSTART;TZID=America/Los_Angeles:20210304T160000
DTEND;TZID=America/Los_Angeles:20210304T170000
DTSTAMP:20260421T051312
CREATED:20210227T233054Z
LAST-MODIFIED:20210227T233054Z
UID:18576-1614873600-1614877200@holidayproductsresource.com
SUMMARY:Sex Shop Talk
DESCRIPTION:YOU'RE INVITED! FREE WEBINAR MASTERCLASS Pioneering Penis Pleasure Are you looking to test the waters of penis pleasure in entirely new ways? Whether it’s stroking\, licking\, squeezing\, admiring\, teasing\, or tasting there are so many ways to pioneer the frontiers of your own penis pleasure. In this upcoming webinar\, we’ll be covering the basics\, including … Continue reading Pioneering Penis Pleasure\, presented by Kinkly & Satisfyer
URL:https://holidayproductsresource.com/event/sex-shop-talk/
LOCATION:Instagram
CATEGORIES:Business Tips
ATTACH;FMTTYPE=image/jpeg:https://holidayproductsresource.com/wp-content/uploads/2021/02/Retailing.jpg
END:VEVENT
BEGIN:VEVENT
DTSTART;TZID=America/Los_Angeles:20210301T070000
DTEND;TZID=America/Los_Angeles:20210305T170000
DTSTAMP:20260421T051312
CREATED:20210228T031139Z
LAST-MODIFIED:20210228T031205Z
UID:18581-1614582000-1614963600@holidayproductsresource.com
SUMMARY:Blush S.P.A.M. Takeover
DESCRIPTION:YOU'RE INVITED! FREE WEBINAR MASTERCLASS Pioneering Penis Pleasure Are you looking to test the waters of penis pleasure in entirely new ways? Whether it’s stroking\, licking\, squeezing\, admiring\, teasing\, or tasting there are so many ways to pioneer the frontiers of your own penis pleasure. In this upcoming webinar\, we’ll be covering the basics\, including … Continue reading Pioneering Penis Pleasure\, presented by Kinkly & Satisfyer
URL:https://holidayproductsresource.com/event/blush-s-p-a-m-takeover/
LOCATION:Facebook
CATEGORIES:Product Training
ATTACH;FMTTYPE=image/jpeg:https://holidayproductsresource.com/wp-content/uploads/2021/02/Blush-SPAM-takeover-2.jpg
END:VEVENT
BEGIN:VEVENT
DTSTART;TZID=America/Los_Angeles:20210226T110000
DTEND;TZID=America/Los_Angeles:20210226T120000
DTSTAMP:20260421T051312
CREATED:20210219T202638Z
LAST-MODIFIED:20210223T091719Z
UID:18487-1614337200-1614340800@holidayproductsresource.com
SUMMARY:Webinar - The Art of Oral Sex presented by Kinkly & Satisfyer
DESCRIPTION:YOU'RE INVITED! FREE WEBINAR MASTERCLASS Pioneering Penis Pleasure Are you looking to test the waters of penis pleasure in entirely new ways? Whether it’s stroking\, licking\, squeezing\, admiring\, teasing\, or tasting there are so many ways to pioneer the frontiers of your own penis pleasure. In this upcoming webinar\, we’ll be covering the basics\, including … Continue reading Pioneering Penis Pleasure\, presented by Kinkly & Satisfyer
URL:https://holidayproductsresource.com/event/webinar-the-art-of-oral-sex/
LOCATION:Online
CATEGORIES:Sex Ed
ATTACH;FMTTYPE=image/jpeg:https://holidayproductsresource.com/wp-content/uploads/2021/02/Aoos-by-satisfyer.jpg
END:VEVENT
BEGIN:VEVENT
DTSTART;TZID=America/Los_Angeles:20210224T110000
DTEND;TZID=America/Los_Angeles:20210224T120000
DTSTAMP:20260421T051312
CREATED:20210206T231829Z
LAST-MODIFIED:20210207T031523Z
UID:18372-1614164400-1614168000@holidayproductsresource.com
SUMMARY:That Time of the Month! Presented by COTR
DESCRIPTION:YOU'RE INVITED! FREE WEBINAR MASTERCLASS Pioneering Penis Pleasure Are you looking to test the waters of penis pleasure in entirely new ways? Whether it’s stroking\, licking\, squeezing\, admiring\, teasing\, or tasting there are so many ways to pioneer the frontiers of your own penis pleasure. In this upcoming webinar\, we’ll be covering the basics\, including … Continue reading Pioneering Penis Pleasure\, presented by Kinkly & Satisfyer
URL:https://holidayproductsresource.com/event/18372/
LOCATION:Online
CATEGORIES:Product Training
ATTACH;FMTTYPE=image/png:https://holidayproductsresource.com/wp-content/uploads/2021/02/COTR_Logo_Final.png
END:VEVENT
BEGIN:VEVENT
DTSTART;TZID=America/Los_Angeles:20210215T080000
DTEND;TZID=America/Los_Angeles:20210226T235900
DTSTAMP:20260421T051312
CREATED:20210217T092312Z
LAST-MODIFIED:20210217T092312Z
UID:18455-1613376000-1614383940@holidayproductsresource.com
SUMMARY:Desire by Swiss Navy Retail Display Contest
DESCRIPTION:YOU'RE INVITED! FREE WEBINAR MASTERCLASS Pioneering Penis Pleasure Are you looking to test the waters of penis pleasure in entirely new ways? Whether it’s stroking\, licking\, squeezing\, admiring\, teasing\, or tasting there are so many ways to pioneer the frontiers of your own penis pleasure. In this upcoming webinar\, we’ll be covering the basics\, including … Continue reading Pioneering Penis Pleasure\, presented by Kinkly & Satisfyer
URL:https://holidayproductsresource.com/event/desire-by-swiss-navy-retail-display-contest/
LOCATION:Social Media
ATTACH;FMTTYPE=image/jpeg:https://holidayproductsresource.com/wp-content/uploads/2021/02/148134799_5225214550852594_3398600914888121228_o.jpg
END:VEVENT
BEGIN:VEVENT
DTSTART;TZID=America/Los_Angeles:20210212T100000
DTEND;TZID=America/Los_Angeles:20210212T110000
DTSTAMP:20260421T051312
CREATED:20210206T044419Z
LAST-MODIFIED:20210206T044419Z
UID:18356-1613124000-1613127600@holidayproductsresource.com
SUMMARY:Kinkly’s The Art of Squirting Orgasms
DESCRIPTION:YOU'RE INVITED! FREE WEBINAR MASTERCLASS Pioneering Penis Pleasure Are you looking to test the waters of penis pleasure in entirely new ways? Whether it’s stroking\, licking\, squeezing\, admiring\, teasing\, or tasting there are so many ways to pioneer the frontiers of your own penis pleasure. In this upcoming webinar\, we’ll be covering the basics\, including … Continue reading Pioneering Penis Pleasure\, presented by Kinkly & Satisfyer
URL:https://holidayproductsresource.com/event/kinklys-the-art-of-squirting-orgasms/
LOCATION:Online
CATEGORIES:Sex Ed
ATTACH;FMTTYPE=image/jpeg:https://holidayproductsresource.com/wp-content/uploads/2021/02/Kinkly.jpg
END:VEVENT
BEGIN:VEVENT
DTSTART;TZID=America/Los_Angeles:20210211T130000
DTEND;TZID=America/Los_Angeles:20210211T140000
DTSTAMP:20260421T051312
CREATED:20210205T211224Z
LAST-MODIFIED:20210205T211224Z
UID:18342-1613048400-1613052000@holidayproductsresource.com
SUMMARY:Voodoo Toys & Get Lucky Product Webinar
DESCRIPTION:YOU'RE INVITED! FREE WEBINAR MASTERCLASS Pioneering Penis Pleasure Are you looking to test the waters of penis pleasure in entirely new ways? Whether it’s stroking\, licking\, squeezing\, admiring\, teasing\, or tasting there are so many ways to pioneer the frontiers of your own penis pleasure. In this upcoming webinar\, we’ll be covering the basics\, including … Continue reading Pioneering Penis Pleasure\, presented by Kinkly & Satisfyer
URL:https://holidayproductsresource.com/event/voodoo-toys-get-lucky-product-webinar/
LOCATION:Zoom
CATEGORIES:Product Training
ATTACH;FMTTYPE=image/jpeg:https://holidayproductsresource.com/wp-content/uploads/2021/02/voodoo.jpg
END:VEVENT
BEGIN:VEVENT
DTSTART;TZID=America/Los_Angeles:20210210T160000
DTEND;TZID=America/Los_Angeles:20210210T170000
DTSTAMP:20260421T051312
CREATED:20210205T212847Z
LAST-MODIFIED:20210205T212847Z
UID:18348-1612972800-1612976400@holidayproductsresource.com
SUMMARY:Blush Happy Hour
DESCRIPTION:YOU'RE INVITED! FREE WEBINAR MASTERCLASS Pioneering Penis Pleasure Are you looking to test the waters of penis pleasure in entirely new ways? Whether it’s stroking\, licking\, squeezing\, admiring\, teasing\, or tasting there are so many ways to pioneer the frontiers of your own penis pleasure. In this upcoming webinar\, we’ll be covering the basics\, including … Continue reading Pioneering Penis Pleasure\, presented by Kinkly & Satisfyer
URL:https://holidayproductsresource.com/event/blush-happy-hour/
LOCATION:Online
CATEGORIES:Product Training
ATTACH;FMTTYPE=image/png:https://holidayproductsresource.com/wp-content/uploads/2021/02/blush.png
END:VEVENT
BEGIN:VEVENT
DTSTART;TZID=America/Los_Angeles:20210201T080000
DTEND;TZID=America/Los_Angeles:20210228T235900
DTSTAMP:20260421T051312
CREATED:20210206T045050Z
LAST-MODIFIED:20210206T045050Z
UID:18360-1612166400-1614556740@holidayproductsresource.com
SUMMARY:Wicked Sensual Care February SALE!
DESCRIPTION:YOU'RE INVITED! FREE WEBINAR MASTERCLASS Pioneering Penis Pleasure Are you looking to test the waters of penis pleasure in entirely new ways? Whether it’s stroking\, licking\, squeezing\, admiring\, teasing\, or tasting there are so many ways to pioneer the frontiers of your own penis pleasure. In this upcoming webinar\, we’ll be covering the basics\, including … Continue reading Pioneering Penis Pleasure\, presented by Kinkly & Satisfyer
URL:https://holidayproductsresource.com/event/wicked-sensual-care-february-sale/
CATEGORIES:Sale Alert
ATTACH;FMTTYPE=image/jpeg:https://holidayproductsresource.com/wp-content/uploads/2021/02/mail.jpg
END:VEVENT
END:VCALENDAR