BEGIN:VCALENDAR
VERSION:2.0
PRODID:-//The RESOURCE by Molly - ECPv6.15.20//NONSGML v1.0//EN
CALSCALE:GREGORIAN
METHOD:PUBLISH
X-WR-CALNAME:The RESOURCE by Molly
X-ORIGINAL-URL:https://holidayproductsresource.com
X-WR-CALDESC:Events for The RESOURCE by Molly
REFRESH-INTERVAL;VALUE=DURATION:PT1H
X-Robots-Tag:noindex
X-PUBLISHED-TTL:PT1H
BEGIN:VTIMEZONE
TZID:America/Los_Angeles
BEGIN:DAYLIGHT
TZOFFSETFROM:-0800
TZOFFSETTO:-0700
TZNAME:PDT
DTSTART:20210314T100000
END:DAYLIGHT
BEGIN:STANDARD
TZOFFSETFROM:-0700
TZOFFSETTO:-0800
TZNAME:PST
DTSTART:20211107T090000
END:STANDARD
BEGIN:DAYLIGHT
TZOFFSETFROM:-0800
TZOFFSETTO:-0700
TZNAME:PDT
DTSTART:20220313T100000
END:DAYLIGHT
BEGIN:STANDARD
TZOFFSETFROM:-0700
TZOFFSETTO:-0800
TZNAME:PST
DTSTART:20221106T090000
END:STANDARD
BEGIN:DAYLIGHT
TZOFFSETFROM:-0800
TZOFFSETTO:-0700
TZNAME:PDT
DTSTART:20230312T100000
END:DAYLIGHT
BEGIN:STANDARD
TZOFFSETFROM:-0700
TZOFFSETTO:-0800
TZNAME:PST
DTSTART:20231105T090000
END:STANDARD
BEGIN:DAYLIGHT
TZOFFSETFROM:-0800
TZOFFSETTO:-0700
TZNAME:PDT
DTSTART:20240310T100000
END:DAYLIGHT
BEGIN:STANDARD
TZOFFSETFROM:-0700
TZOFFSETTO:-0800
TZNAME:PST
DTSTART:20241103T090000
END:STANDARD
END:VTIMEZONE
BEGIN:VEVENT
DTSTART;VALUE=DATE:20221201
DTEND;VALUE=DATE:20221202
DTSTAMP:20260419T221257
CREATED:20221130T213952Z
LAST-MODIFIED:20221130T213952Z
UID:23569-1669852800-1669939199@holidayproductsresource.com
SUMMARY:DECEMBER 1\, 2022 MANUFACTURER PRICE INCREASE NOTICE
DESCRIPTION:  Our office will be closed November 23-24 to celebrate thanksgiving The warehouse will open bright and early Monday the 27th to get to work on your weekend orders. To shop over the long Holiday weekend\, holidayproducts.com is open 24/7
URL:https://holidayproductsresource.com/event/december-1-2022-manufacturer-price-increase-notice/
LOCATION:Your Store
CATEGORIES:Price Increase Alert
ATTACH;FMTTYPE=image/jpeg:https://holidayproductsresource.com/wp-content/uploads/2021/03/Holiday-Price-increase.jpg
END:VEVENT
BEGIN:VEVENT
DTSTART;TZID=America/Los_Angeles:20221121T080000
DTEND;TZID=America/Los_Angeles:20221129T170000
DTSTAMP:20260419T221257
CREATED:20221115T074328Z
LAST-MODIFIED:20221115T074328Z
UID:23464-1669017600-1669741200@holidayproductsresource.com
SUMMARY:2022 Black Friday - Cyber Monday Sale
DESCRIPTION:  Our office will be closed November 23-24 to celebrate thanksgiving The warehouse will open bright and early Monday the 27th to get to work on your weekend orders. To shop over the long Holiday weekend\, holidayproducts.com is open 24/7
URL:https://holidayproductsresource.com/event/2022-black-friday-cyber-monday-sale/
LOCATION:Your Store
CATEGORIES:Sale Alert
ATTACH;FMTTYPE=image/jpeg:https://holidayproductsresource.com/wp-content/uploads/2022/11/BFCM-Super-Sale-cover.jpg
ORGANIZER;CN="Holiday Products":MAILTO:sales@holidayproducts.com
END:VEVENT
BEGIN:VEVENT
DTSTART;TZID=America/Los_Angeles:20221028T090000
DTEND;TZID=America/Los_Angeles:20221028T103000
DTSTAMP:20260419T221257
CREATED:20221019T075132Z
LAST-MODIFIED:20221019T075238Z
UID:23278-1666947600-1666953000@holidayproductsresource.com
SUMMARY:Sex on the Internet: A Look at the Last 10 Years - Presented by Kinkly
DESCRIPTION:  Our office will be closed November 23-24 to celebrate thanksgiving The warehouse will open bright and early Monday the 27th to get to work on your weekend orders. To shop over the long Holiday weekend\, holidayproducts.com is open 24/7
URL:https://holidayproductsresource.com/event/sex-on-the-internet-a-look-at-the-last-10-years-presented-by-kinkly/
LOCATION:Zoom
CATEGORIES:Webinar
ATTACH;FMTTYPE=image/png:https://holidayproductsresource.com/wp-content/uploads/2022/10/content.app-us1.png
END:VEVENT
BEGIN:VEVENT
DTSTART;TZID=America/Los_Angeles:20221026T000000
DTEND;TZID=America/Los_Angeles:20221130T000000
DTSTAMP:20260419T221257
CREATED:20221026T190555Z
LAST-MODIFIED:20221031T233920Z
UID:23353-1666742400-1669766400@holidayproductsresource.com
SUMMARY:"House that Dildos Built Exhibit" Recycling Option
DESCRIPTION:  Our office will be closed November 23-24 to celebrate thanksgiving The warehouse will open bright and early Monday the 27th to get to work on your weekend orders. To shop over the long Holiday weekend\, holidayproducts.com is open 24/7
URL:https://holidayproductsresource.com/event/house-that-dildos-built-exhibit-recycling-option/
LOCATION:CA
CATEGORIES:Promotion
ATTACH;FMTTYPE=image/jpeg:https://holidayproductsresource.com/wp-content/uploads/2022/10/sigmund-aI4RJ-Mw4I-unsplash-1.jpg
END:VEVENT
BEGIN:VEVENT
DTSTART;VALUE=DATE:20221001
DTEND;VALUE=DATE:20221002
DTSTAMP:20260419T221257
CREATED:20220726T105229Z
LAST-MODIFIED:20220901T211957Z
UID:22695-1664582400-1664668799@holidayproductsresource.com
SUMMARY:October 1 2022 PRICE INCREASE NOTICE
DESCRIPTION:  Our office will be closed November 23-24 to celebrate thanksgiving The warehouse will open bright and early Monday the 27th to get to work on your weekend orders. To shop over the long Holiday weekend\, holidayproducts.com is open 24/7
URL:https://holidayproductsresource.com/event/october-1-2022-price-increase-notice/
LOCATION:Your Store
CATEGORIES:Price Increase Alert
ATTACH;FMTTYPE=image/jpeg:https://holidayproductsresource.com/wp-content/uploads/2021/03/Holiday-Price-increase.jpg
END:VEVENT
BEGIN:VEVENT
DTSTART;VALUE=DATE:20220915
DTEND;VALUE=DATE:20220916
DTSTAMP:20260419T221257
CREATED:20220902T100416Z
LAST-MODIFIED:20220902T100416Z
UID:22911-1663200000-1663286399@holidayproductsresource.com
SUMMARY:September 15 2022 PRICE INCREASE NOTICE
DESCRIPTION:  Our office will be closed November 23-24 to celebrate thanksgiving The warehouse will open bright and early Monday the 27th to get to work on your weekend orders. To shop over the long Holiday weekend\, holidayproducts.com is open 24/7
URL:https://holidayproductsresource.com/event/september-15-2022-price-increase-notice/
LOCATION:Your Store
CATEGORIES:Price Increase Alert
ATTACH;FMTTYPE=image/jpeg:https://holidayproductsresource.com/wp-content/uploads/2021/03/Holiday-Price-increase.jpg
END:VEVENT
BEGIN:VEVENT
DTSTART;VALUE=DATE:20220901
DTEND;VALUE=DATE:20220902
DTSTAMP:20260419T221257
CREATED:20220825T003433Z
LAST-MODIFIED:20220825T003433Z
UID:22851-1661990400-1662076799@holidayproductsresource.com
SUMMARY:September 1 2022 PRICE INCREASE NOTICE
DESCRIPTION:  Our office will be closed November 23-24 to celebrate thanksgiving The warehouse will open bright and early Monday the 27th to get to work on your weekend orders. To shop over the long Holiday weekend\, holidayproducts.com is open 24/7
URL:https://holidayproductsresource.com/event/september-1-2022-price-increase-notice/
LOCATION:Your Store
CATEGORIES:Price Increase Alert
ATTACH;FMTTYPE=image/jpeg:https://holidayproductsresource.com/wp-content/uploads/2021/03/Holiday-Price-increase.jpg
END:VEVENT
BEGIN:VEVENT
DTSTART;VALUE=DATE:20220823
DTEND;VALUE=DATE:20220824
DTSTAMP:20260419T221257
CREATED:20220726T104454Z
LAST-MODIFIED:20220726T104454Z
UID:22693-1661212800-1661299199@holidayproductsresource.com
SUMMARY:August 23\, 2022 PRICE INCREASE NOTICE
DESCRIPTION:  Our office will be closed November 23-24 to celebrate thanksgiving The warehouse will open bright and early Monday the 27th to get to work on your weekend orders. To shop over the long Holiday weekend\, holidayproducts.com is open 24/7
URL:https://holidayproductsresource.com/event/august-23-2022-price-increase-notice/
LOCATION:Your Store
CATEGORIES:Price Increase Alert
ATTACH;FMTTYPE=image/jpeg:https://holidayproductsresource.com/wp-content/uploads/2021/03/Holiday-Price-increase.jpg
END:VEVENT
BEGIN:VEVENT
DTSTART;TZID=America/Los_Angeles:20220803T160000
DTEND;TZID=America/Los_Angeles:20220803T170000
DTSTAMP:20260419T221257
CREATED:20220727T000742Z
LAST-MODIFIED:20220727T000742Z
UID:22697-1659542400-1659546000@holidayproductsresource.com
SUMMARY:Blush New Release Review with Team Blush!
DESCRIPTION:  Our office will be closed November 23-24 to celebrate thanksgiving The warehouse will open bright and early Monday the 27th to get to work on your weekend orders. To shop over the long Holiday weekend\, holidayproducts.com is open 24/7
URL:https://holidayproductsresource.com/event/blush-new-release-review-with-team-blush/
LOCATION:Zoom
CATEGORIES:Product Training
ATTACH;FMTTYPE=image/png:https://holidayproductsresource.com/wp-content/uploads/2022/07/Blush-training-header.png
END:VEVENT
BEGIN:VEVENT
DTSTART;TZID=America/Los_Angeles:20220801T080000
DTEND;TZID=America/Los_Angeles:20230529T170000
DTSTAMP:20260419T221257
CREATED:20220926T095224Z
LAST-MODIFIED:20230527T085024Z
UID:23091-1659340800-1685379600@holidayproductsresource.com
SUMMARY:Nu Release Auto Program for Holiday Customers
DESCRIPTION:  Our office will be closed November 23-24 to celebrate thanksgiving The warehouse will open bright and early Monday the 27th to get to work on your weekend orders. To shop over the long Holiday weekend\, holidayproducts.com is open 24/7
URL:https://holidayproductsresource.com/event/nu-release-auto-program-for-holiday-customers/
LOCATION:Your Store
CATEGORIES:Promotion
ATTACH;FMTTYPE=image/jpeg:https://holidayproductsresource.com/wp-content/uploads/2022/09/nu-release.jpg
END:VEVENT
BEGIN:VEVENT
DTSTART;TZID=America/Los_Angeles:20220729T080000
DTEND;TZID=America/Los_Angeles:20220729T170000
DTSTAMP:20260419T221257
CREATED:20220729T181311Z
LAST-MODIFIED:20220729T181311Z
UID:22719-1659081600-1659114000@holidayproductsresource.com
SUMMARY:AUGUST 1\, 2022 PRICE INCREASE NOTICE
DESCRIPTION:  Our office will be closed November 23-24 to celebrate thanksgiving The warehouse will open bright and early Monday the 27th to get to work on your weekend orders. To shop over the long Holiday weekend\, holidayproducts.com is open 24/7
URL:https://holidayproductsresource.com/event/august-1-2022-price-increase-notice/
LOCATION:Your Store
CATEGORIES:Price Increase Alert
ATTACH;FMTTYPE=image/jpeg:https://holidayproductsresource.com/wp-content/uploads/2021/03/Holiday-Price-increase.jpg
END:VEVENT
BEGIN:VEVENT
DTSTART;TZID=America/Los_Angeles:20220713T170000
DTEND;TZID=America/Los_Angeles:20220713T180000
DTSTAMP:20260419T221257
CREATED:20220629T193307Z
LAST-MODIFIED:20220629T193307Z
UID:22522-1657731600-1657735200@holidayproductsresource.com
SUMMARY:Give Good Head: How to Make Oral Unforgettable
DESCRIPTION:  Our office will be closed November 23-24 to celebrate thanksgiving The warehouse will open bright and early Monday the 27th to get to work on your weekend orders. To shop over the long Holiday weekend\, holidayproducts.com is open 24/7
URL:https://holidayproductsresource.com/event/give-good-head-how-to-make-oral-unforgettable/
LOCATION:Zoom
CATEGORIES:Webinar
ATTACH;FMTTYPE=image/png:https://holidayproductsresource.com/wp-content/uploads/2022/06/kinkly-ducky-head.png
END:VEVENT
BEGIN:VEVENT
DTSTART;VALUE=DATE:20220701
DTEND;VALUE=DATE:20220702
DTSTAMP:20260419T221257
CREATED:20220601T211116Z
LAST-MODIFIED:20220601T211116Z
UID:22323-1656633600-1656719999@holidayproductsresource.com
SUMMARY:July 1\, 2022 MANUFACTURER PRICE INCREASE NOTICE
DESCRIPTION:  Our office will be closed November 23-24 to celebrate thanksgiving The warehouse will open bright and early Monday the 27th to get to work on your weekend orders. To shop over the long Holiday weekend\, holidayproducts.com is open 24/7
URL:https://holidayproductsresource.com/event/july-1-2022-manufacturer-price-increase-notice/
LOCATION:Your Store
CATEGORIES:Price Increase Alert
ATTACH;FMTTYPE=image/jpeg:https://holidayproductsresource.com/wp-content/uploads/2021/03/Holiday-Price-increase.jpg
END:VEVENT
BEGIN:VEVENT
DTSTART;TZID=America/Los_Angeles:20220622T080000
DTEND;TZID=America/Los_Angeles:20230529T170000
DTSTAMP:20260419T221257
CREATED:20220623T053631Z
LAST-MODIFIED:20230527T084948Z
UID:22459-1655884800-1685379600@holidayproductsresource.com
SUMMARY:Swiss Navy Certified Expert Certification Program
DESCRIPTION:  Our office will be closed November 23-24 to celebrate thanksgiving The warehouse will open bright and early Monday the 27th to get to work on your weekend orders. To shop over the long Holiday weekend\, holidayproducts.com is open 24/7
URL:https://holidayproductsresource.com/event/swiss-navy-certified-expert-certification-program/
LOCATION:Online
CATEGORIES:Product Training
ATTACH;FMTTYPE=image/png:https://holidayproductsresource.com/wp-content/uploads/2022/06/thumbnail.png
END:VEVENT
BEGIN:VEVENT
DTSTART;TZID=America/Los_Angeles:20220607T150000
DTEND;TZID=America/Los_Angeles:20220607T160000
DTSTAMP:20260419T221257
CREATED:20220601T201241Z
LAST-MODIFIED:20220601T201305Z
UID:22317-1654614000-1654617600@holidayproductsresource.com
SUMMARY:Blush U: Showing Our Pride With Blush Products
DESCRIPTION:  Our office will be closed November 23-24 to celebrate thanksgiving The warehouse will open bright and early Monday the 27th to get to work on your weekend orders. To shop over the long Holiday weekend\, holidayproducts.com is open 24/7
URL:https://holidayproductsresource.com/event/showing-our-pride-with-blush-products/
LOCATION:Zoom
CATEGORIES:Product Training,Sex Ed,Webinar
ATTACH;FMTTYPE=image/png:https://holidayproductsresource.com/wp-content/uploads/2022/06/Blush-U-Pride.png
END:VEVENT
BEGIN:VEVENT
DTSTART;VALUE=DATE:20220531
DTEND;VALUE=DATE:20220601
DTSTAMP:20260419T221257
CREATED:20220401T164900Z
LAST-MODIFIED:20220428T104340Z
UID:21823-1653955200-1654041599@holidayproductsresource.com
SUMMARY:May 31\, 2022 MANUFACTURER PRICE INCREASE NOTICE
DESCRIPTION:  Our office will be closed November 23-24 to celebrate thanksgiving The warehouse will open bright and early Monday the 27th to get to work on your weekend orders. To shop over the long Holiday weekend\, holidayproducts.com is open 24/7
URL:https://holidayproductsresource.com/event/june-1-2022-manufacturer-price-increase-notice/
LOCATION:Your Store
CATEGORIES:Price Increase Alert
ATTACH;FMTTYPE=image/jpeg:https://holidayproductsresource.com/wp-content/uploads/2021/03/Holiday-Price-increase.jpg
END:VEVENT
BEGIN:VEVENT
DTSTART;TZID=America/Los_Angeles:20220524T080000
DTEND;TZID=America/Los_Angeles:20220620T170000
DTSTAMP:20260419T221257
CREATED:20220524T110714Z
LAST-MODIFIED:20220524T110714Z
UID:22243-1653379200-1655744400@holidayproductsresource.com
SUMMARY:Blush - Show Your Pride & WIN!
DESCRIPTION:  Our office will be closed November 23-24 to celebrate thanksgiving The warehouse will open bright and early Monday the 27th to get to work on your weekend orders. To shop over the long Holiday weekend\, holidayproducts.com is open 24/7
URL:https://holidayproductsresource.com/event/blush-show-your-pride-win/
LOCATION:Your Store
CATEGORIES:Contest
ATTACH;FMTTYPE=image/png:https://holidayproductsresource.com/wp-content/uploads/2022/05/Show-your-pride-1.png
END:VEVENT
BEGIN:VEVENT
DTSTART;VALUE=DATE:20220518
DTEND;VALUE=DATE:20220519
DTSTAMP:20260419T221257
CREATED:20220407T192310Z
LAST-MODIFIED:20220414T100424Z
UID:21864-1652832000-1652918399@holidayproductsresource.com
SUMMARY:MAY 18\, 2022 MANUFACTURER PRICE INCREASE NOTICE
DESCRIPTION:  Our office will be closed November 23-24 to celebrate thanksgiving The warehouse will open bright and early Monday the 27th to get to work on your weekend orders. To shop over the long Holiday weekend\, holidayproducts.com is open 24/7
URL:https://holidayproductsresource.com/event/may-18-2022-manufacturer-price-increase-notice/
LOCATION:Your Store
CATEGORIES:Price Increase Alert
ATTACH;FMTTYPE=image/jpeg:https://holidayproductsresource.com/wp-content/uploads/2021/03/Holiday-Price-increase.jpg
END:VEVENT
BEGIN:VEVENT
DTSTART;TZID=America/Los_Angeles:20220517T150000
DTEND;TZID=America/Los_Angeles:20220517T160000
DTSTAMP:20260419T221257
CREATED:20220512T195514Z
LAST-MODIFIED:20220512T195514Z
UID:22169-1652799600-1652803200@holidayproductsresource.com
SUMMARY:Blush U: It's Masturbation May - Experience Blush M For Men Strokers
DESCRIPTION:  Our office will be closed November 23-24 to celebrate thanksgiving The warehouse will open bright and early Monday the 27th to get to work on your weekend orders. To shop over the long Holiday weekend\, holidayproducts.com is open 24/7
URL:https://holidayproductsresource.com/event/blush-u-its-masturbation-may-experience-blush-m-for-men-strokers/
LOCATION:Online
CATEGORIES:Product Training
ATTACH;FMTTYPE=image/jpeg:https://holidayproductsresource.com/wp-content/uploads/2022/04/Blush-U-logo.jpg
END:VEVENT
BEGIN:VEVENT
DTSTART;TZID=America/Los_Angeles:20220517T080000
DTEND;TZID=America/Los_Angeles:20220620T170000
DTSTAMP:20260419T221257
CREATED:20220517T131707Z
LAST-MODIFIED:20220517T131744Z
UID:22198-1652774400-1655744400@holidayproductsresource.com
SUMMARY:Wicked Simply PRIDE In-Store Display Contest
DESCRIPTION:  Our office will be closed November 23-24 to celebrate thanksgiving The warehouse will open bright and early Monday the 27th to get to work on your weekend orders. To shop over the long Holiday weekend\, holidayproducts.com is open 24/7
URL:https://holidayproductsresource.com/event/wicked-simply-pride-in-store-display-contest/
LOCATION:Your Store
CATEGORIES:Contest
ATTACH;FMTTYPE=image/jpeg:https://holidayproductsresource.com/wp-content/uploads/2022/05/281769697_10101916270889903_3115657276572961369_n.jpg
END:VEVENT
BEGIN:VEVENT
DTSTART;VALUE=DATE:20220516
DTEND;VALUE=DATE:20220517
DTSTAMP:20260419T221257
CREATED:20220415T131408Z
LAST-MODIFIED:20220428T181359Z
UID:21950-1652659200-1652745599@holidayproductsresource.com
SUMMARY:MAY 16\, 2022 MANUFACTURER PRICE INCREASE NOTICE
DESCRIPTION:  Our office will be closed November 23-24 to celebrate thanksgiving The warehouse will open bright and early Monday the 27th to get to work on your weekend orders. To shop over the long Holiday weekend\, holidayproducts.com is open 24/7
URL:https://holidayproductsresource.com/event/may-16-2022-manufacturer-price-increase-notice/
LOCATION:Your Store
CATEGORIES:Price Increase Alert
ATTACH;FMTTYPE=image/jpeg:https://holidayproductsresource.com/wp-content/uploads/2021/03/Holiday-Price-increase.jpg
END:VEVENT
BEGIN:VEVENT
DTSTART;VALUE=DATE:20220515
DTEND;VALUE=DATE:20220516
DTSTAMP:20260419T221257
CREATED:20220414T101102Z
LAST-MODIFIED:20220414T101102Z
UID:21935-1652572800-1652659199@holidayproductsresource.com
SUMMARY:MAY 15\, 2022 MANUFACTURER PRICE INCREASE NOTICE
DESCRIPTION:  Our office will be closed November 23-24 to celebrate thanksgiving The warehouse will open bright and early Monday the 27th to get to work on your weekend orders. To shop over the long Holiday weekend\, holidayproducts.com is open 24/7
URL:https://holidayproductsresource.com/event/may-15-2022-manufacturer-price-increase-notice/
LOCATION:Your Store
CATEGORIES:Price Increase Alert
ATTACH;FMTTYPE=image/jpeg:https://holidayproductsresource.com/wp-content/uploads/2021/03/Holiday-Price-increase.jpg
END:VEVENT
BEGIN:VEVENT
DTSTART;VALUE=DATE:20220501
DTEND;VALUE=DATE:20220502
DTSTAMP:20260419T221257
CREATED:20220428T104717Z
LAST-MODIFIED:20220428T175233Z
UID:22081-1651363200-1651449599@holidayproductsresource.com
SUMMARY:May 1\, 2022 Price Increase Notice
DESCRIPTION:  Our office will be closed November 23-24 to celebrate thanksgiving The warehouse will open bright and early Monday the 27th to get to work on your weekend orders. To shop over the long Holiday weekend\, holidayproducts.com is open 24/7
URL:https://holidayproductsresource.com/event/may-1-2022-price-increase-notice/
LOCATION:Your Store
CATEGORIES:Price Increase Alert
ATTACH;FMTTYPE=image/jpeg:https://holidayproductsresource.com/wp-content/uploads/2021/03/Holiday-Price-increase.jpg
END:VEVENT
BEGIN:VEVENT
DTSTART;TZID=America/Los_Angeles:20220429T180000
DTEND;TZID=America/Los_Angeles:20220429T190000
DTSTAMP:20260419T221257
CREATED:20220412T050755Z
LAST-MODIFIED:20220412T050755Z
UID:21926-1651255200-1651258800@holidayproductsresource.com
SUMMARY:Back to Basics: Anal Sex Hacks for Beginners and Pros
DESCRIPTION:  Our office will be closed November 23-24 to celebrate thanksgiving The warehouse will open bright and early Monday the 27th to get to work on your weekend orders. To shop over the long Holiday weekend\, holidayproducts.com is open 24/7
URL:https://holidayproductsresource.com/event/back-to-basics-anal-sex-hacks-for-beginners-and-pros/
LOCATION:Zoom
CATEGORIES:Sex Ed
ATTACH;FMTTYPE=image/png:https://holidayproductsresource.com/wp-content/uploads/2022/04/Kinkly-Anal-Hacks.png
END:VEVENT
BEGIN:VEVENT
DTSTART;TZID=America/Los_Angeles:20220428T080000
DTEND;TZID=America/Los_Angeles:20220520T233000
DTSTAMP:20260419T221257
CREATED:20220428T221346Z
LAST-MODIFIED:20220428T223309Z
UID:22089-1651132800-1653089400@holidayproductsresource.com
SUMMARY:Magic Wand® Day Display Contest
DESCRIPTION:  Our office will be closed November 23-24 to celebrate thanksgiving The warehouse will open bright and early Monday the 27th to get to work on your weekend orders. To shop over the long Holiday weekend\, holidayproducts.com is open 24/7
URL:https://holidayproductsresource.com/event/magic-wand-day-display-contest/
LOCATION:CA
CATEGORIES:Contest
ATTACH;FMTTYPE=image/png:https://holidayproductsresource.com/wp-content/uploads/2022/04/Magic-Wand-Day.png
END:VEVENT
BEGIN:VEVENT
DTSTART;TZID=America/Los_Angeles:20220421T140000
DTEND;TZID=America/Los_Angeles:20220421T170000
DTSTAMP:20260419T221257
CREATED:20220419T222944Z
LAST-MODIFIED:20220419T222944Z
UID:21976-1650549600-1650560400@holidayproductsresource.com
SUMMARY:Legal Impact: Industry Issues\, Today & Tomorrow - Section 230: Why aren’t we talking about it more?
DESCRIPTION:  Our office will be closed November 23-24 to celebrate thanksgiving The warehouse will open bright and early Monday the 27th to get to work on your weekend orders. To shop over the long Holiday weekend\, holidayproducts.com is open 24/7
URL:https://holidayproductsresource.com/event/legal-impact-industry-issues-today-tomorrow-section-230-why-arent-we-talking-about-it-more/
LOCATION:Online
CATEGORIES:Webinar
ATTACH;FMTTYPE=image/png:https://holidayproductsresource.com/wp-content/uploads/2022/04/Talking.png
END:VEVENT
BEGIN:VEVENT
DTSTART;TZID=America/Los_Angeles:20220412T150000
DTEND;TZID=America/Los_Angeles:20220412T160000
DTSTAMP:20260419T221257
CREATED:20220406T052316Z
LAST-MODIFIED:20220406T161548Z
UID:21844-1649775600-1649779200@holidayproductsresource.com
SUMMARY:Blush U: Experiencing Blended Orgasms Mixed with Understanding the Anatomy and Blended Orgasms
DESCRIPTION:  Our office will be closed November 23-24 to celebrate thanksgiving The warehouse will open bright and early Monday the 27th to get to work on your weekend orders. To shop over the long Holiday weekend\, holidayproducts.com is open 24/7
URL:https://holidayproductsresource.com/event/blush-u-experiencing-blended-orgasms-mixed-with-understanding-the-anatomy-and-blended-orgasms/
LOCATION:Online
CATEGORIES:Product Training
ATTACH;FMTTYPE=image/jpeg:https://holidayproductsresource.com/wp-content/uploads/2022/04/Blush-U-logo.jpg
END:VEVENT
BEGIN:VEVENT
DTSTART;VALUE=DATE:20220401
DTEND;VALUE=DATE:20220402
DTSTAMP:20260419T221257
CREATED:20220302T045512Z
LAST-MODIFIED:20220325T131036Z
UID:21581-1648771200-1648857599@holidayproductsresource.com
SUMMARY:April 1\, 2022 MANUFACTURER PRICE INCREASE NOTICE
DESCRIPTION:  Our office will be closed November 23-24 to celebrate thanksgiving The warehouse will open bright and early Monday the 27th to get to work on your weekend orders. To shop over the long Holiday weekend\, holidayproducts.com is open 24/7
URL:https://holidayproductsresource.com/event/april-1-2022-manufacturer-price-increase-notice/
LOCATION:Your Store
CATEGORIES:Price Increase Alert
ATTACH;FMTTYPE=image/jpeg:https://holidayproductsresource.com/wp-content/uploads/2021/03/Holiday-Price-increase.jpg
END:VEVENT
BEGIN:VEVENT
DTSTART;TZID=America/Los_Angeles:20220318T080000
DTEND;TZID=America/Los_Angeles:20220420T170000
DTSTAMP:20260419T221257
CREATED:20220318T212546Z
LAST-MODIFIED:20220318T212714Z
UID:21702-1647590400-1650474000@holidayproductsresource.com
SUMMARY:Maia 4/20 Display Contest
DESCRIPTION:  Our office will be closed November 23-24 to celebrate thanksgiving The warehouse will open bright and early Monday the 27th to get to work on your weekend orders. To shop over the long Holiday weekend\, holidayproducts.com is open 24/7
URL:https://holidayproductsresource.com/event/maia-4-20-display-contest/
LOCATION:Your Store
CATEGORIES:Contest
ATTACH;FMTTYPE=image/jpeg:https://holidayproductsresource.com/wp-content/uploads/2022/03/Maia-420-contest-1-1.jpg
END:VEVENT
BEGIN:VEVENT
DTSTART;TZID=America/Los_Angeles:20220314T090000
DTEND;TZID=America/Los_Angeles:20220316T150000
DTSTAMP:20260419T221257
CREATED:20210706T092858Z
LAST-MODIFIED:20210706T092959Z
UID:19700-1647248400-1647442800@holidayproductsresource.com
SUMMARY:Altitude Intimates
DESCRIPTION:  Our office will be closed November 23-24 to celebrate thanksgiving The warehouse will open bright and early Monday the 27th to get to work on your weekend orders. To shop over the long Holiday weekend\, holidayproducts.com is open 24/7
URL:https://holidayproductsresource.com/event/altitude-intimates/
LOCATION:MGM Grand\, 3799 S. Las Vegas Blvd\, Las Vegas\, NV\, NV 89109\, United States
CATEGORIES:Trade Shows
ATTACH;FMTTYPE=image/jpeg:https://holidayproductsresource.com/wp-content/uploads/2021/07/Altitude.jpg
END:VEVENT
END:VCALENDAR