BEGIN:VCALENDAR
VERSION:2.0
PRODID:-//The RESOURCE by Molly - ECPv6.15.20//NONSGML v1.0//EN
CALSCALE:GREGORIAN
METHOD:PUBLISH
X-WR-CALNAME:The RESOURCE by Molly
X-ORIGINAL-URL:https://holidayproductsresource.com
X-WR-CALDESC:Events for The RESOURCE by Molly
REFRESH-INTERVAL;VALUE=DURATION:PT1H
X-Robots-Tag:noindex
X-PUBLISHED-TTL:PT1H
BEGIN:VTIMEZONE
TZID:America/Los_Angeles
BEGIN:DAYLIGHT
TZOFFSETFROM:-0800
TZOFFSETTO:-0700
TZNAME:PDT
DTSTART:20240310T100000
END:DAYLIGHT
BEGIN:STANDARD
TZOFFSETFROM:-0700
TZOFFSETTO:-0800
TZNAME:PST
DTSTART:20241103T090000
END:STANDARD
BEGIN:DAYLIGHT
TZOFFSETFROM:-0800
TZOFFSETTO:-0700
TZNAME:PDT
DTSTART:20250309T100000
END:DAYLIGHT
BEGIN:STANDARD
TZOFFSETFROM:-0700
TZOFFSETTO:-0800
TZNAME:PST
DTSTART:20251102T090000
END:STANDARD
BEGIN:DAYLIGHT
TZOFFSETFROM:-0800
TZOFFSETTO:-0700
TZNAME:PDT
DTSTART:20260308T100000
END:DAYLIGHT
BEGIN:STANDARD
TZOFFSETFROM:-0700
TZOFFSETTO:-0800
TZNAME:PST
DTSTART:20261101T090000
END:STANDARD
END:VTIMEZONE
BEGIN:VEVENT
DTSTART;TZID=America/Los_Angeles:20250804T080000
DTEND;TZID=America/Los_Angeles:20250805T170000
DTSTAMP:20260419T144407
CREATED:20250425T215916Z
LAST-MODIFIED:20250425T215916Z
UID:30807-1754294400-1754413200@holidayproductsresource.com
SUMMARY:STIMULATE: A B2B Sexual Wellness Trade Show + Conference
DESCRIPTION:Altitude Intimates is the most significant and relevant intimate apparel tradeshow in the United States. It’s an annual\, buyer-centric event that showcases lingerie\, intimate apparel\, men’s\, novelties\, shoes & related merchandise. … Continue reading ALTITUDE INTIMATES 2026
URL:https://holidayproductsresource.com/event/stimulate-a-b2b-sexual-wellness-trade-show-conference/
LOCATION:Sheraton Grand Nashville Downtown\, 623 Union Street\, Nashville\, 37219\, United States
CATEGORIES:Trade Shows
ATTACH;FMTTYPE=image/jpeg:https://holidayproductsresource.com/wp-content/uploads/2025/04/Stimulate-merch-cover.jpg
END:VEVENT
END:VCALENDAR